BEGIN:VCALENDAR
VERSION:2.0
PRODID:-//DP Pro Event Calendar//3.2.6//EN
BEGIN:VEVENT
UID:27abd8a5-11a5-4a70-8260-e31835953c25
DTSTART;TZID=Europe/Berlin:20260119T190000
DTEND;TZID=Europe/Berlin:20260119T210000
DTSTAMP:20260419T170322Z
SUMMARY:Wöchentliche Fahrerübung
DESCRIPTION:Fahrerübung nach freier Einteilung der berechtigten Maschinisten
LOCATION:
URL:
END:VEVENT
END:VCALENDAR