BEGIN:VCALENDAR
VERSION:2.0
PRODID:-//DP Pro Event Calendar//3.2.6//EN
BEGIN:VEVENT
UID:bff6af70-f108-4a87-ba5c-1e41d3f5f6fd
DTSTART;TZID=Europe/Berlin:20260112T190000
DTEND;TZID=Europe/Berlin:20260112T210000
DTSTAMP:20260419T170322Z
SUMMARY:Wöchentliche Fahrerübung
DESCRIPTION:Fahrerübung nach freier Einteilung der berechtigten Maschinisten
LOCATION:
URL:
END:VEVENT
END:VCALENDAR