BEGIN:VCALENDAR
VERSION:2.0
PRODID:-//DP Pro Event Calendar//3.2.6//EN
BEGIN:VEVENT
UID:effb85ad-fb5a-47ba-bc6c-c9ef2145188e
DTSTART;TZID=Europe/Berlin:20251229T190000
DTEND;TZID=Europe/Berlin:20251229T210000
DTSTAMP:20260419T170322Z
SUMMARY:Wöchentliche Fahrerübung
DESCRIPTION:Fahrerübung nach freier Einteilung der berechtigten Maschinisten
LOCATION:
URL:
END:VEVENT
END:VCALENDAR