BEGIN:VCALENDAR
VERSION:2.0
PRODID:-//DP Pro Event Calendar//3.2.6//EN
BEGIN:VEVENT
UID:e2aa65e8-ea00-4595-9200-3b1f9b60bc3e
DTSTART;TZID=Europe/Berlin:20251222T190000
DTEND;TZID=Europe/Berlin:20251222T210000
DTSTAMP:20260419T170322Z
SUMMARY:Wöchentliche Fahrerübung
DESCRIPTION:Fahrerübung nach freier Einteilung der berechtigten Maschinisten
LOCATION:
URL:
END:VEVENT
END:VCALENDAR