BEGIN:VCALENDAR
VERSION:2.0
PRODID:-//DP Pro Event Calendar//3.2.6//EN
BEGIN:VEVENT
UID:8b1dc4f8-9175-4a1b-bb3f-97a14ccf6d0d
DTSTART;TZID=Europe/Berlin:20251027T190000
DTEND;TZID=Europe/Berlin:20251027T210000
DTSTAMP:20260419T170322Z
SUMMARY:Wöchentliche Fahrerübung
DESCRIPTION:Fahrerübung nach freier Einteilung der berechtigten Maschinisten
LOCATION:
URL:
END:VEVENT
END:VCALENDAR