BEGIN:VCALENDAR
VERSION:2.0
PRODID:-//DP Pro Event Calendar//3.2.6//EN
BEGIN:VEVENT
UID:bf5b4671-14ae-4d7f-b340-9bff2bc6ef3e
DTSTART;TZID=Europe/Berlin:20251020T190000
DTEND;TZID=Europe/Berlin:20251020T210000
DTSTAMP:20260419T170322Z
SUMMARY:Wöchentliche Fahrerübung
DESCRIPTION:Fahrerübung nach freier Einteilung der berechtigten Maschinisten
LOCATION:
URL:
END:VEVENT
END:VCALENDAR