BEGIN:VCALENDAR
VERSION:2.0
PRODID:-//DP Pro Event Calendar//3.2.6//EN
BEGIN:VEVENT
UID:fb8ac783-8e1e-450c-9aee-a8815334bfba
DTSTART;TZID=Europe/Berlin:20250929T190000
DTEND;TZID=Europe/Berlin:20250929T210000
DTSTAMP:20260419T170322Z
SUMMARY:Wöchentliche Fahrerübung
DESCRIPTION:Fahrerübung nach freier Einteilung der berechtigten Maschinisten
LOCATION:
URL:
END:VEVENT
END:VCALENDAR