BEGIN:VCALENDAR
VERSION:2.0
PRODID:-//DP Pro Event Calendar//3.2.6//EN
BEGIN:VEVENT
UID:e51604ce-7c92-4201-bd25-44e67221c0a0
DTSTART;TZID=Europe/Berlin:20250908T190000
DTEND;TZID=Europe/Berlin:20250908T210000
DTSTAMP:20260419T170322Z
SUMMARY:Wöchentliche Fahrerübung
DESCRIPTION:Fahrerübung nach freier Einteilung der berechtigten Maschinisten
LOCATION:
URL:
END:VEVENT
END:VCALENDAR