BEGIN:VCALENDAR
VERSION:2.0
PRODID:-//DP Pro Event Calendar//3.2.6//EN
BEGIN:VEVENT
UID:6b900d0c-2aa3-4467-94ae-4fdc0fcb2e12
DTSTART;TZID=Europe/Berlin:20250811T190000
DTEND;TZID=Europe/Berlin:20250811T210000
DTSTAMP:20260419T170322Z
SUMMARY:Wöchentliche Fahrerübung
DESCRIPTION:Fahrerübung nach freier Einteilung der berechtigten Maschinisten
LOCATION:
URL:
END:VEVENT
END:VCALENDAR