BEGIN:VCALENDAR
VERSION:2.0
PRODID:-//DP Pro Event Calendar//3.2.6//EN
BEGIN:VEVENT
UID:0f7c1f79-0f81-4a2a-89b4-a432e32f0b7d
DTSTART;TZID=Europe/Berlin:20250630T190000
DTEND;TZID=Europe/Berlin:20250630T210000
DTSTAMP:20260419T170322Z
SUMMARY:Wöchentliche Fahrerübung
DESCRIPTION:Fahrerübung nach freier Einteilung der berechtigten Maschinisten
LOCATION:
URL:
END:VEVENT
END:VCALENDAR