BEGIN:VCALENDAR
VERSION:2.0
PRODID:-//DP Pro Event Calendar//3.2.6//EN
BEGIN:VEVENT
UID:2a7add3c-60fc-4463-8c3f-4d55ccf73d68
DTSTART;TZID=Europe/Berlin:20250623T190000
DTEND;TZID=Europe/Berlin:20250623T210000
DTSTAMP:20260419T170322Z
SUMMARY:Wöchentliche Fahrerübung
DESCRIPTION:Fahrerübung nach freier Einteilung der berechtigten Maschinisten
LOCATION:
URL:
END:VEVENT
END:VCALENDAR