BEGIN:VCALENDAR
VERSION:2.0
PRODID:-//DP Pro Event Calendar//3.2.6//EN
BEGIN:VEVENT
UID:0e6d5bdf-45df-4989-8bc5-a15089a0c5f9
DTSTART;TZID=Europe/Berlin:20250530T230000
DTEND;TZID=Europe/Berlin:20250530T230000
DTSTAMP:20260420T020349Z
SUMMARY:Einsatz im Gleisbereich – im Speziellen „Tunneleinsatz“
DESCRIPTION:*Auffrischen der Kenntnisse über die Tunnelbauwerke und die Checklisten vor Ort  *Zusammenbau der RollpalettenVerantwortlich: M. Steininger\, F. Traxler (ÖBB-Einsatzleiter)
LOCATION:
URL:
END:VEVENT
END:VCALENDAR