BEGIN:VCALENDAR
VERSION:2.0
PRODID:-//DP Pro Event Calendar//3.2.6//EN
BEGIN:VEVENT
UID:467d20d7-8bdd-41c0-ae83-39f9fe400577
DTSTART;TZID=Europe/Berlin:20250519T190000
DTEND;TZID=Europe/Berlin:20250519T210000
DTSTAMP:20260419T170322Z
SUMMARY:Wöchentliche Fahrerübung
DESCRIPTION:Fahrerübung nach freier Einteilung der berechtigten Maschinisten
LOCATION:
URL:
END:VEVENT
END:VCALENDAR