BEGIN:VCALENDAR
VERSION:2.0
PRODID:-//DP Pro Event Calendar//3.2.6//EN
BEGIN:VEVENT
UID:dce81135-30be-48f6-a272-c2f459fd46f2
DTSTART;TZID=Europe/Berlin:20250428T190000
DTEND;TZID=Europe/Berlin:20250428T210000
DTSTAMP:20260419T170322Z
SUMMARY:Wöchentliche Fahrerübung
DESCRIPTION:Fahrerübung nach freier Einteilung der berechtigten Maschinisten
LOCATION:
URL:
END:VEVENT
END:VCALENDAR