BEGIN:VCALENDAR
VERSION:2.0
PRODID:-//DP Pro Event Calendar//3.2.6//EN
BEGIN:VEVENT
UID:0dfda9ac-991b-43a7-9a9b-b5e0fb76e7c8
DTSTART;TZID=Europe/Berlin:20250421T190000
DTEND;TZID=Europe/Berlin:20250421T210000
DTSTAMP:20260419T170322Z
SUMMARY:Wöchentliche Fahrerübung
DESCRIPTION:Fahrerübung nach freier Einteilung der berechtigten Maschinisten
LOCATION:
URL:
END:VEVENT
END:VCALENDAR