BEGIN:VCALENDAR
VERSION:2.0
PRODID:-//DP Pro Event Calendar//3.2.6//EN
BEGIN:VEVENT
UID:1ecd8e83-3116-4ef8-8a54-0b2094698d70
DTSTART;TZID=Europe/Berlin:20250415T190000
DTEND;TZID=Europe/Berlin:20250415T220000
DTSTAMP:20260419T220328Z
SUMMARY:Kommandositzung
DESCRIPTION:________________________________________________________________________________Microsoft Teams Benötigen Sie Hilfe?Jetzt an der Besprechung teilnehmenBesprechungs-ID: 346 832 881 035 0Kennung: E8Xm3WX9________________________________Für Organisatoren: Besprechungsoptionen[https://www.noe122.at/assets/img/lfvnoe_logo.png]nNÖ Landesfeuerwehrverband________________________________________________________________________________
LOCATION:Microsoft Teams-Besprechung
URL:
END:VEVENT
END:VCALENDAR