BEGIN:VCALENDAR
VERSION:2.0
PRODID:-//DP Pro Event Calendar//3.2.6//EN
BEGIN:VEVENT
UID:9b4888e5-ab15-4a85-8f62-b098ee9fd90d
DTSTART;TZID=Europe/Berlin:20250411T190000
DTEND;TZID=Europe/Berlin:20250411T220000
DTSTAMP:20260419T210334Z
SUMMARY:Bezirksfeuerwehrtag
DESCRIPTION:am Freitag\, 11. April 2025\, um 19:00 Uhrin der Sportmittelschule Wöbling\, Oberer Markt 15\, 3124 Oberwölbling.Tagesordnung:BegrüßungTotengedenkenBericht des BezirksfeuerwehrkommandantenBericht über die KassengebarungBericht der Rechnungsprüfer ? Entlastung des KassiersEhrungen und AuszeichnungenAnsprachenAllfälligesSchlusswort
LOCATION:Sportmittelschule Oberwölbling
URL:
END:VEVENT
END:VCALENDAR