BEGIN:VCALENDAR
VERSION:2.0
PRODID:-//DP Pro Event Calendar//3.2.6//EN
BEGIN:VEVENT
UID:c49e289e-2dc0-4204-9b60-d7ae59cd6146
DTSTART;TZID=Europe/Berlin:20250410T190000
DTEND;TZID=Europe/Berlin:20250410T210000
DTSTAMP:20260419T190324Z
SUMMARY:1. Übung lt. Sommerübungsplan - „Funkübung mit Hydrantenüberprüfung“
DESCRIPTION:Verantwortlich: L. Steindl\, L. Ahmadi  *Arbeiten in der Einsatzleitung  *Festigen der Handhabung der Funkgeräte  *Kennenlernen der versch. Wasserentnahmestellen
LOCATION:Freiwillige Feuerwehr Wagram (Wiener Straße 70\, St. Pölten Niederösterreich\, Österreich)
URL:
END:VEVENT
END:VCALENDAR