BEGIN:VCALENDAR
VERSION:2.0
PRODID:-//DP Pro Event Calendar//3.2.6//EN
BEGIN:VEVENT
UID:44fb1786-ca0b-47d4-b450-6fc21795ecf2
DTSTART;TZID=Europe/Berlin:20250405T080000
DTEND;TZID=Europe/Berlin:20250405T120000
DTSTAMP:20260419T170321Z
SUMMARY:Abnahme APAS Bronze + Gold
DESCRIPTION:Beginn in St. Georgen: 8:00 UhrAbfahrt in Wagram: 7:30 Uhr
LOCATION:FF St. Pölten-St. Georgen
URL:
END:VEVENT
END:VCALENDAR