BEGIN:VCALENDAR
VERSION:2.0
PRODID:-//DP Pro Event Calendar//3.2.6//EN
BEGIN:VEVENT
UID:dc0f00d8-c0a6-4df1-b4f1-b83140f99c1e
DTSTART;TZID=Europe/Berlin:20250228T130000
DTEND;TZID=Europe/Berlin:20250228T210000
DTSTAMP:20260302T090342Z
SUMMARY:Vorbereitung für Faschingsumzug
DESCRIPTION:Verantwortlich: Kommando
LOCATION:Freiwillige Feuerwehr Wagram (Wiener Straße 70\, St. Pölten Niederösterreich\, Österreich)
URL:
END:VEVENT
END:VCALENDAR