BEGIN:VCALENDAR
VERSION:2.0
PRODID:-//DP Pro Event Calendar//3.2.6//EN
BEGIN:VEVENT
UID:bdd2215f-805f-4380-a591-61e5f09556df
DTSTART;TZID=Europe/Berlin:20250226T190000
DTEND;TZID=Europe/Berlin:20250226T210000
DTSTAMP:20260227T200323Z
SUMMARY:Basisausbildung: Gruppe im Löscheinsatz
DESCRIPTION:Ausbilder: J. Strobl\, J. Lirsch
LOCATION:Freiwillige Feuerwehr Wagram (Wiener Straße 70\, St. Pölten Niederösterreich\, Österreich)
URL:
END:VEVENT
END:VCALENDAR