BEGIN:VCALENDAR
VERSION:2.0
PRODID:-//DP Pro Event Calendar//3.2.6//EN
BEGIN:VEVENT
UID:81a3137c-2ee0-4f73-b897-ae66fe15c01b
DTSTART;TZID=Europe/Berlin:20250220T190000
DTEND;TZID=Europe/Berlin:20250220T210000
DTSTAMP:20260227T200323Z
SUMMARY:Einsatzleiterschulung – Mühlbach Ost
DESCRIPTION:*Teilnehmer: Mitglieder lt. EinsatzleiterlisteVerantwortlich: Kommando
LOCATION:
URL:
END:VEVENT
END:VCALENDAR