BEGIN:VCALENDAR
VERSION:2.0
PRODID:-//DP Pro Event Calendar//3.2.6//EN
BEGIN:VEVENT
UID:5cb7dbdb-c3a6-4809-b2a4-c12b79b58c47
DTSTART;TZID=Europe/Berlin:20250218T190000
DTEND;TZID=Europe/Berlin:20250218T210000
DTSTAMP:20260227T200323Z
SUMMARY:Dienstbesprechung Feuerwehrjugend BFKDO
DESCRIPTION:
LOCATION:FF Karlstetten-Weyersdorf
URL:
END:VEVENT
END:VCALENDAR