BEGIN:VCALENDAR
VERSION:2.0
PRODID:-//DP Pro Event Calendar//3.2.6//EN
BEGIN:VEVENT
UID:afdf1ef9-07f8-4503-acb5-a7853d192b15
DTSTART;TZID=Europe/Berlin:20250218T190000
DTEND;TZID=Europe/Berlin:20250218T210000
DTSTAMP:20260227T200323Z
SUMMARY:Nachbesprechung Hochwasser 2024
DESCRIPTION:Liebe Kameraden!Auch wenn das Hochwasser schon einige Zeither ist wollen wir noch einmal gemeinsam drüber nachdenken\, was wir beim nächsten mal anders oder auch besser machen könnten. Bitte um entsprechende Vorbereitung.Teilnehmerkreis: KDO\, Verwaltung\, Einsatzchargen\, Zeug-/Fahrmeister\, SB NRD wegen Einsatzzentrale\, VersorgunglG Alfred________________________________________________________________________________Microsoft Teams Benötigen Sie Hilfe?Jetzt an der Besprechung teilnehmenBesprechungs-ID: 391 248 579 611Kennung: mm7Ah73o________________________________Für Organisatoren: Besprechungsoptionen[https://www.noe122.at/assets/img/lfvnoe_logo.png]NÖ Landesfeuerwehrverband________________________________________________________________________________
LOCATION:Microsoft Teams-Besprechung
URL:
END:VEVENT
END:VCALENDAR