BEGIN:VCALENDAR
VERSION:2.0
PRODID:-//DP Pro Event Calendar//3.2.6//EN
BEGIN:VEVENT
UID:519edcd1-9bfa-49a0-9056-98f6582a8a26
DTSTART;TZID=Europe/Berlin:20250212T190000
DTEND;TZID=Europe/Berlin:20250212T210000
DTSTAMP:20260216T200424Z
SUMMARY:Basisausbildung: A.1 - A.10 - Zusammenfassung und Wiederholung
DESCRIPTION:Ausbilder: M. Steininger\, J. Strobl
LOCATION:Freiwillige Feuerwehr Wagram (Wiener Straße 70\, St. Pölten Niederösterreich\, Österreich)
URL:
END:VEVENT
END:VCALENDAR