BEGIN:VCALENDAR
VERSION:2.0
PRODID:-//DP Pro Event Calendar//3.2.6//EN
BEGIN:VEVENT
UID:df427f7c-18f5-4b81-81c9-1abb67c176ef
DTSTART;TZID=Europe/Berlin:20250130T190000
DTEND;TZID=Europe/Berlin:20250130T210000
DTSTAMP:20260216T200424Z
SUMMARY:Einsatz im Gleisbereich – im Speziellen „Tunneleinsatz“
DESCRIPTION:*Auffrischen der Kenntnisse über die Tunnelbauwerke und die Checklisten  *Richtiges Vorgehen bei Einsätzen in TunnelsVerantwortlich: A. Sampl\, M. Steininger
LOCATION:Freiwillige Feuerwehr Wagram (Wiener Straße 70\, St. Pölten Niederösterreich\, Österreich)
URL:
END:VEVENT
END:VCALENDAR