BEGIN:VCALENDAR
VERSION:2.0
PRODID:-//DP Pro Event Calendar//3.2.6//EN
BEGIN:VEVENT
UID:cb64fc57-11f3-4f1f-8fc7-400252dc3e1b
DTSTART;TZID=Europe/Berlin:20240905T190000
DTEND;TZID=Europe/Berlin:20240905T210000
DTSTAMP:20250717T220323Z
SUMMARY:Vorstellung &#8220\;VF neu&#8221\; für die gesamte Mannschaft
DESCRIPTION:Vorstellung des neuen Versorgungsfahrzeugs durch das Kommando
LOCATION:Freiwillige Feuerwehr Wagram (Wiener Straße 70\, St. Pölten Niederösterreich\, Österreich)
URL:
END:VEVENT
END:VCALENDAR