BEGIN:VCALENDAR
VERSION:2.0
PRODID:-//DP Pro Event Calendar//3.2.6//EN
BEGIN:VEVENT
UID:f3fa3b53-9679-4e01-a639-04b3e15ad827
DTSTART;TZID=Europe/Berlin:20240827T074500
DTEND;TZID=Europe/Berlin:20240827T074500
DTSTAMP:20250725T232845Z
SUMMARY:FÜ10 - Führungsstufe 1  - FM Dennis Wieland (Warteliste)
DESCRIPTION:Das angeführte Mitglied wurde auf die Warteliste gesetzt und kann eventuell kurzfristig als Ersatzteilnehmer für den Kurs eingeteilt werden.Feuerwehr: FF St.Pölten-WagramMitglied: FM Dennis WielandKursdetails: FÜ10 - Führungsstufe 1 27.08.2024 07:45 bis 29.08.2024 17:00Dies ist eine Systemgenerierte Nachricht. Nicht antworten! Der aktuelle Status ist in FDISK ersichtlich!
LOCATION:
URL:
END:VEVENT
END:VCALENDAR