BEGIN:VCALENDAR
VERSION:2.0
PRODID:-//DP Pro Event Calendar//3.2.6//EN
BEGIN:VEVENT
UID:b6b427d0-cbef-4d15-8b93-9244271a735a
DTSTART;TZID=Europe/Berlin:20240826T074500
DTEND;TZID=Europe/Berlin:20240826T150000
DTSTAMP:20250819T192823Z
SUMMARY:RE20 - Rechtliche und organisatorische Grundlagen für den Einsatz - FM Dennis Wieland (Warteliste)
DESCRIPTION:Das angeführte Mitglied wurde auf die Warteliste gesetzt und kann eventuell kurzfristig als Ersatzteilnehmer für den Kurs eingeteilt werden.Feuerwehr: FF St.Pölten-WagramMitglied: FM Dennis WielandKursdetails: RE20 - Rechtliche und organisatorische Grundlagen für den Einsatz 26.08.2024 07:45 bis 26.08.2024 15:00Dies ist eine Systemgenerierte Nachricht. Nicht antworten! Der aktuelle Status ist in FDISK ersichtlich!
LOCATION:
URL:
END:VEVENT
END:VCALENDAR