BEGIN:VCALENDAR
VERSION:2.0
PRODID:-//DP Pro Event Calendar//3.2.6//EN
BEGIN:VEVENT
UID:a6e7056b-71be-40d2-b4f9-f804150f6db8
DTSTART;TZID=Europe/Berlin:20240821T074500
DTEND;TZID=Europe/Berlin:20240821T170000
DTSTAMP:20250819T192823Z
SUMMARY:TE30 - Menschenrettung und Bergung mittels Zug- und Hebemittel  - FM Julian Lirsch (Teilnehmerliste)
DESCRIPTION:Das angeführte Mitglied wurde auf die Teilnehmerliste gesetzt. Die Teilnehmerinformation ist auch in FDISK über "angemeldete Kurse" abrufbar. Die Aufnahme hat in Dienstbekleidung nach NÖ LFV DA 3.6.2 zu erfolgen\, der Feuerwehrpass ist vorzulegen.Feuerwehr: FF St.Pölten-WagramMitglied: FM Julian LirschKursdetails: TE30 - Menschenrettung und Bergung mittels Zug- und Hebemittel 21.08.2024 07:45 bis 21.08.2024 17:00    21.08.2024: 07:45 bis 17:00Aufnahme: Tulln\, NÖ Feuerwehr- und Sicherheitszentrum um 07:15Zusätzlich erforderliche Ausrüstung:  Einsatzbekleidung nach Dienstanweisung 3.6.2 des NÖ LFV Dies ist eineSystemgenerierte Nachricht. Nicht antworten! Der aktuelle Status ist in FDISK ersichtlich!
LOCATION:
URL:
END:VEVENT
END:VCALENDAR