BEGIN:VCALENDAR
VERSION:2.0
PRODID:-//DP Pro Event Calendar//3.2.6//EN
BEGIN:VEVENT
UID:a3586fd4-cc84-46a3-a308-7f13733dae05
DTSTART;TZID=Europe/Berlin:20240805T180000
DTEND;TZID=Europe/Berlin:20240805T180000
DTSTAMP:20250822T060328Z
SUMMARY:Aufbau Weinkost 2024
DESCRIPTION:
LOCATION:
URL:
END:VEVENT
END:VCALENDAR