BEGIN:VCALENDAR
VERSION:2.0
PRODID:-//DP Pro Event Calendar//3.2.6//EN
BEGIN:VEVENT
UID:ec6f9c23-af79-4d73-bc01-f84d8fae269d
DTSTART;TZID=Europe/Berlin:20240725T190000
DTEND;TZID=Europe/Berlin:20240725T210000
DTSTAMP:20251016T200342Z
SUMMARY:Zugsübung „Fahrzeugsicherung mit Stabilisierungssystem“ - 1. Zug
DESCRIPTION:Verantwortlich: F. Zeller\, M. Steininger  *   Kennenlernen der neuen Gerätschaften  *   Anwendung an Fahrzeugen in unterschiedlichen Lagen
LOCATION:
URL:
END:VEVENT
END:VCALENDAR