BEGIN:VCALENDAR
VERSION:2.0
PRODID:-//DP Pro Event Calendar//3.2.6//EN
BEGIN:VEVENT
UID:dbf3488a-46dc-4c4c-b995-bd7bbb718035
DTSTART;TZID=Europe/Berlin:20240718T190000
DTEND;TZID=Europe/Berlin:20240718T210000
DTSTAMP:20251016T200342Z
SUMMARY:Arbeitseinsatz Weinkost - Besteckwickeln etc.
DESCRIPTION:
LOCATION:Freiwillige Feuerwehr Wagram (Wiener Straße 70\, 3100 St. Pölten Niederösterreich\, Österreich)
URL:
END:VEVENT
END:VCALENDAR