BEGIN:VCALENDAR
VERSION:2.0
PRODID:-//DP Pro Event Calendar//3.2.6//EN
BEGIN:VEVENT
UID:3a9d1321-9cca-4e2b-9413-68a0c01925ec
DTSTART;TZID=Europe/Berlin:20240522T074500
DTEND;TZID=Europe/Berlin:20240522T170000
DTSTAMP:20250522T232858Z
SUMMARY:TE20 - Menschenrettung aus KFZ  - FM Jawed Lukas Ahmadi (Teilnehmerliste)
DESCRIPTION:Das angeführte Mitglied wurde auf die Teilnehmerliste gesetzt. Die Teilnehmerinformation ist auch in FDISK über "angemeldete Kurse" abrufbar. Die Aufnahme hat in Dienstbekleidung nach NÖ LFV DA 3.6.2 zu erfolgen\, der Feuerwehrpass ist vorzulegen.Feuerwehr: FF St.Pölten-WagramMitglied: FM Jawed Lukas AhmadiKursdetails: TE20 - Menschenrettung aus KFZ 22.05.2024 07:45 bis 22.05.2024 17:00     22.05.2024: 07:45 bis 17:00Aufnahme: Tulln\, NÖ Feuerwehr- und Sicherheitszentrum um 07:15Zusätzlich erforderliche Ausrüstung:  Einsatzbekleidung nach Dienstanweisung 3.6.2 des NÖ LFV Dies ist eine Systemgenerierte Nachricht. Nicht antworten! Der aktuelle Status ist in FDISK ersichtlich!
LOCATION:
URL:
END:VEVENT
END:VCALENDAR