BEGIN:VCALENDAR
VERSION:2.0
PRODID:-//DP Pro Event Calendar//3.2.6//EN
BEGIN:VEVENT
UID:7e5d3927-9d72-4953-8b41-b6a62906286d
DTSTART;TZID=Europe/Berlin:20231106T074500
DTEND;TZID=Europe/Berlin:20231106T074500
DTSTAMP:20240921T212822Z
SUMMARY:FÜ20 - Führungsstufe 2  - LM  Dipl.-FW\, akad. BM. Stefan Pichler (Warteliste)
DESCRIPTION:Das angeführte Mitglied wurde auf die Warteliste gesetzt und kann eventuell kurzfristig als Ersatzteilnehmer für den Kurs eingeteilt werden.Feuerwehr: FF St.Pölten-WagramMitglied: LM  Dipl.-FW\, akad. BM. Stefan PichlerKursdetails: FÜ20 - Führungsstufe 2 06.11.2023 07:45bis 08.11.2023 15:00Dies ist eine Systemgenerierte Nachricht. Nichtantworten! Der aktuelle Status ist in FDISK ersichtlich!
LOCATION:
URL:
END:VEVENT
END:VCALENDAR