BEGIN:VCALENDAR
VERSION:2.0
PRODID:-//DP Pro Event Calendar//3.2.6//EN
BEGIN:VEVENT
UID:a9002d1e-ee2c-452c-8c96-eb83cc6e69a5
DTSTART;TZID=Europe/Berlin:20231014T070000
DTEND;TZID=Europe/Berlin:20231014T070000
DTSTAMP:20240405T140354Z
SUMMARY:Modul GFÜ in St. Pölten-Wagram
DESCRIPTION:
LOCATION:
URL:
END:VEVENT
END:VCALENDAR