BEGIN:VCALENDAR
VERSION:2.0
PRODID:-//DP Pro Event Calendar//3.2.6//EN
BEGIN:VEVENT
UID:e3526ff4-0de2-4714-845c-c16d80da3ae0
DTSTART;TZID=Europe/Berlin:20230925T074500
DTEND;TZID=Europe/Berlin:20230925T150000
DTSTAMP:20240925T232826Z
SUMMARY:RE20 - Rechtliche und organisatorische Grundlagen für den Einsatz - FM Michael Golly (Warteliste)
DESCRIPTION:Das angeführte Mitglied wurde auf die Warteliste gesetzt und kann eventuell kurzfristig als Ersatzteilnehmer für den Kurs eingeteilt werden.Feuerwehr: FF St.Pölten-WagramMitglied: FM Michael GollyKursdetails: RE20 - Rechtliche und organisatorische Grundlagen für den Einsatz 25.09.2023 07:45 bis 25.09.2023 15:00Dies ist eine Systemgenerierte Nachricht. Nicht antworten! Der aktuelle Status ist in FDISK ersichtlich!
LOCATION:
URL:
END:VEVENT
END:VCALENDAR