BEGIN:VCALENDAR
VERSION:2.0
PRODID:-//DP Pro Event Calendar//3.2.6//EN
BEGIN:VEVENT
UID:25022c84-4b75-47e5-be5a-622e7615b04d
DTSTART;TZID=Europe/Berlin:20230912T074500
DTEND;TZID=Europe/Berlin:20230912T074500
DTSTAMP:20240907T172847Z
SUMMARY:FÜ10 - Führungsstufe 1  - FM Julian Lirsch (Warteliste)
DESCRIPTION:Das angeführte Mitglied wurde auf die Warteliste gesetzt und kann eventuell kurzfristig als Ersatzteilnehmer für den Kurs eingeteilt werden.Feuerwehr: FF St.Pölten-WagramMitglied: FM Julian LirschKursdetails: FÜ10 - Führungsstufe 1 12.09.2023 07:45 bis 14.09.2023 17:00nDies ist eine Systemgenerierte Nachricht. Nicht antworten! Der aktuelle Status ist in FDISK ersichtlich!
LOCATION:
URL:
END:VEVENT
END:VCALENDAR