BEGIN:VCALENDAR
VERSION:2.0
PRODID:-//DP Pro Event Calendar//3.2.6//EN
BEGIN:VEVENT
UID:f96cc7ce-746c-4177-a62f-7ae2e0b5836b
DTSTART;TZID=Europe/Berlin:20230907T074500
DTEND;TZID=Europe/Berlin:20230907T120000
DTSTAMP:20240907T232832Z
SUMMARY:ASM10 - Abschluss Führungsstufe 1  - LM Florian Goiser (Warteliste)
DESCRIPTION:Das angeführte Mitglied wurde auf die Warteliste gesetzt und kann eventuell kurzfristig als Ersatzteilnehmer für den Kurs eingeteilt werden.Feuerwehr: FF St.Pölten-WagramMitglied: LM Florian GoiserKursdetails: ASM10 - Abschluss Führungsstufe 1 07.09.2023 07:45 bis 07.09.2023 12:00Dies ist eine Systemgenerierte Nachricht. Nicht antworten! Der aktuelle Status ist in FDISK ersichtlich!
LOCATION:
URL:
END:VEVENT
END:VCALENDAR