BEGIN:VCALENDAR
VERSION:2.0
PRODID:-//DP Pro Event Calendar//3.2.6//EN
BEGIN:VEVENT
UID:4d2269de-4d56-4c4c-a9dd-a7a1d57f7e3d
DTSTART;TZID=Europe/Berlin:20230901T173000
DTEND;TZID=Europe/Berlin:20230901T173000
DTSTAMP:20240901T152827Z
SUMMARY:FWBW - Feuerwehr Basiswissen - feuerwehrübergreifend  - PFM Michaela Schmutzer-Freinberger (Teilnehmerliste)
DESCRIPTION:Das angeführte Mitglied wurde auf die Teilnehmerliste gesetzt. Die Teilnehmerinformation ist auch in FDISK über "angemeldete Kurse" abrufbar. Die Aufnahme hat in Dienstbekleidung nach NÖ LFV DA 3.6.2 zu erfolgen\, der Feuerwehrpass ist vorzulegen.Feuerwehr: FF St.Pölten-WagramMitglied: PFM Michaela Schmutzer-FreinbergerKursdetails: FWBW - Feuerwehr Basiswissen - feuerwehrübergreifend 01.09.2023 17:30 bis 03.09.2023 13:00     01.09.2023: 17:30 bis 21:10     02.09.2023: 07:15 bis 17:30     03.09.2023: 07:15 bis 13:00Aufnahme: Feuerwehrhaus St. Pölten -Wagram um 17:00 Dies ist eine Systemgenerierte Nachricht. Nicht antworten! Der aktuelle Status ist in FDISK ersichtlich!
LOCATION:
URL:
END:VEVENT
END:VCALENDAR