BEGIN:VCALENDAR
VERSION:2.0
PRODID:-//DP Pro Event Calendar//3.2.6//EN
BEGIN:VEVENT
UID:f0b67505-1a85-47c6-8d57-4dfbbec3c61a
DTSTART;TZID=Europe/Berlin:20230829T074500
DTEND;TZID=Europe/Berlin:20230829T074500
DTSTAMP:20240831T062841Z
SUMMARY:FÜ10 - Führungsstufe 1  - LM Florian Goiser (Warteliste)
DESCRIPTION:Das angeführte Mitglied wurde auf die Warteliste gesetzt und kann eventuell kurzfristig als Ersatzteilnehmer für den Kurs eingeteilt werden.Feuerwehr: FF St.Pölten-WagramMitglied: LM Florian GoiserKursdetails: FÜ10 - Führungsstufe 1 29.08.2023 07:45 bis 31.08.2023 17:00Dies ist eine Systemgenerierte Nachricht. Nicht antworten! Der aktuelle Status ist in FDISK ersichtlich!
LOCATION:
URL:
END:VEVENT
END:VCALENDAR