BEGIN:VCALENDAR
VERSION:2.0
PRODID:-//DP Pro Event Calendar//3.2.6//EN
BEGIN:VEVENT
UID:9c0cb02f-5ebf-4ade-9996-129d552c54e9
DTSTART;TZID=Europe/Berlin:20230828T074500
DTEND;TZID=Europe/Berlin:20230828T150000
DTSTAMP:20240828T232820Z
SUMMARY:RE20 - Rechtliche und organisatorische Grundlagen für den Einsatz - LM Florian Goiser (Warteliste)
DESCRIPTION:Das angeführte Mitglied wurde auf die Warteliste gesetzt und kann eventuell kurzfristig als Ersatzteilnehmer für den Kurs eingeteilt werden.Feuerwehr: FF St.Pölten-WagramMitglied: LM Florian GoiserKursdetails: RE20 - Rechtliche und organisatorische Grundlagen für den Einsatz 28.08.2023 07:45 bis 28.08.2023 15:00Dies ist eine Systemgenerierte Nachricht. Nicht antworten! Der aktuelle Status ist in FDISK ersichtlich!
LOCATION:
URL:
END:VEVENT
END:VCALENDAR