BEGIN:VCALENDAR
VERSION:2.0
PRODID:-//DP Pro Event Calendar//3.2.6//EN
BEGIN:VEVENT
UID:c5501f38-b58a-446b-a353-1e3aa8547739
DTSTART;TZID=Europe/Berlin:20230707T074500
DTEND;TZID=Europe/Berlin:20230707T120000
DTSTAMP:20240707T232918Z
SUMMARY:ASM20 - Abschluss Feuerwehrkommandant  - LM Jan-Alexander Strobl(Warteliste)
DESCRIPTION:Das angeführte Mitglied wurde auf die Warteliste gesetzt und kann eventuell kurzfristig als Ersatzteilnehmer für den Kurs eingeteilt werden.Feuerwehr: FF St.Pölten-WagramMitglied: LM Jan-Alexander StroblKursdetails: ASM20 - Abschluss Feuerwehrkommandant 07.07.2023 07:45 bis 07.07.2023 12:00Dies ist eine Systemgenerierte Nachricht. Nicht antworten! Der aktuelle Status ist in FDISK ersichtlich!
LOCATION:
URL:
END:VEVENT
END:VCALENDAR