BEGIN:VCALENDAR
VERSION:2.0
PRODID:-//DP Pro Event Calendar//3.2.6//EN
BEGIN:VEVENT
UID:d05b3e80-7cee-48a4-b89d-bd542f997acd
DTSTART;TZID=Europe/Berlin:20230524T074500
DTEND;TZID=Europe/Berlin:20230524T170000
DTSTAMP:20240525T232821Z
SUMMARY:FÜ10 - Führungsstufe 1  - LM Florian Goiser (Warteliste)
DESCRIPTION:Das angeführte Mitglied wurde auf die Warteliste gesetzt und kann eventuell kurzfristig als Ersatzteilnehmer für den Kurs eingeteilt werden.Feuerwehr: FF St.Pölten-WagramMitglied: LM Florian GoiserKursdetails: FÜ10 - Führungsstufe 1 23.05.2023 07:45 bis 25.05.2023 17:00Dies ist eine Systemgenerierte Nachricht. Nicht antworten! Der aktuelle Status ist in FDISK ersichtlich!
LOCATION:
URL:
END:VEVENT
END:VCALENDAR