BEGIN:VCALENDAR
VERSION:2.0
PRODID:-//DP Pro Event Calendar//3.2.6//EN
BEGIN:VEVENT
UID:43af15ec-aa8e-4488-9d22-1bdbec23137d
DTSTART;TZID=Europe/Berlin:20230522T074500
DTEND;TZID=Europe/Berlin:20230522T150000
DTSTAMP:20240522T232905Z
SUMMARY:RE20 - Rechtliche und organisatorische Grundlagen für den Einsatz - LM Florian Goiser (Warteliste)
DESCRIPTION:Das angeführte Mitglied wurde auf die Warteliste gesetzt und kann eventuell kurzfristig als Ersatzteilnehmer für den Kurs eingeteilt werden.Feuerwehr: FF St.Pölten-WagramMitglied: LM Florian GoiserKursdetails: RE20 - Rechtliche und organisatorische Grundlagen für den Einsatz 22.05.2023 07:45 bis 22.05.2023 15:00Dies ist eine Systemgenerierte Nachricht. Nicht antworten! Der aktuelle Status ist in FDISK ersichtlich!
LOCATION:
URL:
END:VEVENT
END:VCALENDAR