BEGIN:VCALENDAR
VERSION:2.0
PRODID:-//DP Pro Event Calendar//3.2.6//EN
BEGIN:VEVENT
UID:e15daf59-caa5-43e5-a4a4-d7ca074af12f
DTSTART;TZID=Europe/Berlin:20230517T074500
DTEND;TZID=Europe/Berlin:20230517T170000
DTSTAMP:20240517T233019Z
SUMMARY:FJJB - Jugendbetreuer  - FM Julian Lirsch (Warteliste)
DESCRIPTION:Das angeführte Mitglied wurde auf die Warteliste gesetzt und kann eventuell kurzfristig als Ersatzteilnehmer für den Kurs eingeteilt werden.Feuerwehr: FF St.Pölten-WagramMitglied: FM Julian LirschKursdetails: FJJB - Jugendbetreuer 15.05.2023 07:45 bis 17.05.2023 17:00Dies ist eine Systemgenerierte Nachricht. Nicht antworten! Der aktuelle Status ist in FDISK ersichtlich!
LOCATION:
URL:
END:VEVENT
END:VCALENDAR