BEGIN:VCALENDAR
VERSION:2.0
PRODID:-//DP Pro Event Calendar//3.2.6//EN
BEGIN:VEVENT
UID:bc88a287-56bb-4ef8-a86c-dfb44dbddff6
DTSTART;TZID=Europe/Berlin:20230516T074500
DTEND;TZID=Europe/Berlin:20230516T170000
DTSTAMP:20240517T233019Z
SUMMARY:FJJB - Jugendbetreuer  - FM Julian Lirsch (Warteliste)
DESCRIPTION:Das angeführte Mitglied wurde auf die Warteliste gesetzt und kann eventuell kurzfristig als Ersatzteilnehmer für den Kurs eingeteilt werden.Feuerwehr: FF St.Pölten-WagramMitglied: FM Julian LirschKursdetails: FJJB - Jugendbetreuer 15.05.2023 07:45 bis 17.05.2023 17:00Dies ist eine Systemgenerierte Nachricht. Nicht antworten! Der aktuelle Status ist in FDISK ersichtlich!
LOCATION:
URL:
END:VEVENT
END:VCALENDAR