BEGIN:VCALENDAR
VERSION:2.0
PRODID:-//DP Pro Event Calendar//3.2.6//EN
BEGIN:VEVENT
UID:ca0256a2-ad52-4bdd-9a35-40a2c7166d5f
DTSTART;TZID=Europe/Berlin:20230502T074500
DTEND;TZID=Europe/Berlin:20230502T120000
DTSTAMP:20240502T232850Z
SUMMARY:AFGFÜLA - Lehrbeauftragter Grundlagen Führung Lehrauftritt  - LMJan-Alexander Strobl (Teilnehmerliste)
DESCRIPTION:Das angeführte Mitglied wurde auf die Teilnehmerliste gesetzt. Die Teilnehmerinformation ist auch in FDISK über "angemeldete Kurse" abrufbar. Die Aufnahme hat in Dienstbekleidung nach NÖ LFV DA 3.6.2 zu erfolgen\, der Feuerwehrpass ist vorzulegen.Feuerwehr: FF St.Pölten-WagramMitglied: LM Jan-Alexander StroblKursdetails: AFGFÜLA - Lehrbeauftragter Grundlagen Führung Lehrauftritt 02.05.2023 07:45 bis 02.05.2023 12:00     02.05.2023: 07:45 bis 12:00Aufnahme: Tulln\, NÖ Feuerwehr- und Sicherheitszentrum um 07:15Zusätzlich erforderliche Ausrüstung: Einsatzbekleidung nach Dienstanweisung 3.6.2 des NÖ LFV Hinweis:Ausbilderleitfaden zum Modul mitnehmen! Dies ist eine Systemgenerierte Nachricht. Nicht antworten! Der aktuelle Status ist in FDISK ersichtlich!
LOCATION:
URL:
END:VEVENT
END:VCALENDAR