BEGIN:VCALENDAR
VERSION:2.0
PRODID:-//DP Pro Event Calendar//3.2.6//EN
BEGIN:VEVENT
UID:c2b0cbf8-e965-4fc1-b7ec-fcc7d96fdb78
DTSTART;TZID=Europe/Berlin:20230502T074500
DTEND;TZID=Europe/Berlin:20230502T120000
DTSTAMP:20240502T232850Z
SUMMARY:AFGFÜLA - Lehrbeauftragter Grundlagen Führung Lehrauftritt  - LMJan-Alexander Strobl (Warteliste)
DESCRIPTION:Das angeführte Mitglied wurde auf die Warteliste gesetzt und kann eventuell kurzfristig als Ersatzteilnehmer für den Kurs eingeteilt werden.Feuerwehr: FF St.Pölten-WagramMitglied: LM Jan-Alexander StroblKursdetails: AFGFÜLA - Lehrbeauftragter Grundlagen Führung Lehrauftritt 02.05.2023 07:45 bis 02.05.2023 12:00Dies ist eine Systemgenerierte Nachricht. Nicht antworten! Der aktuelle Status ist in FDISK ersichtlich!
LOCATION:
URL:
END:VEVENT
END:VCALENDAR