BEGIN:VCALENDAR
VERSION:2.0
PRODID:-//DP Pro Event Calendar//3.2.6//EN
BEGIN:VEVENT
UID:f11d1449-6a44-4bf0-a6b8-0eee6ba664b2
DTSTART;TZID=Europe/Berlin:20230426T180000
DTEND;TZID=Europe/Berlin:20230426T210000
DTSTAMP:20240426T232818Z
SUMMARY:BST59 - VB - Biogasanlagen und Biomasseanlagen  - OV  Franz Patzl (Teilnehmerliste)
DESCRIPTION:Das angeführte Mitglied wurde auf die Teilnehmerliste gesetzt. Die Teilnehmerinformation ist auch in FDISK über "angemeldete Kurse" abrufbar. Die Aufnahme hat in Dienstbekleidung nach NÖ LFV DA 3.6.2 zu erfolgen\, der Feuerwehrpass ist vorzulegen.Feuerwehr: FF St.Pölten-WagramMitglied: OV  Franz PatzlKursdetails: BST59 - VB - Biogasanlagen und Biomasseanlagen 26.04.2023 18:00 bis 26.04.2023 21:00     26.04.2023: 18:00 bis 21:00Aufnahme: Tulln\, NÖ Feuerwehr- und Sicherheitszentrum um 17:30 Dies ist eine Systemgenerierte Nachricht. Nicht antworten! Der aktuelle Status ist in FDISK ersichtlich!
LOCATION:
URL:
END:VEVENT
END:VCALENDAR